BEGIN:VCALENDAR
VERSION:2.0
PRODID:-//wp-events-plugin.com//7.2.3.1//EN
TZID:Europe/Berlin
X-WR-TIMEZONE:Europe/Berlin
BEGIN:VEVENT
UID:33@xn--klvbotz-6waa.de
DTSTART;TZID=Europe/Berlin:20240114T110000
DTEND;TZID=Europe/Berlin:20240114T110000
DTSTAMP:20231104T164227Z
URL:https://xn--klvbotz-6waa.de/events/fruehschoppen-2024/
SUMMARY:Frühs(c)hoppen 2024
DESCRIPTION:Frühs(c)hoppen ist kein Tippfehler\, denn hier geht's um beide
 s: schoppen und shoppen!\n\n
LOCATION:Bürgerhaus Aegidienberg\, Aegidiusplatz 10\, Aegidienberg\, NRW\,
  53604\, Deutschland
GEO:50.662330;7.303272
X-APPLE-STRUCTURED-LOCATION;VALUE=URI;X-ADDRESS=Aegidiusplatz 10\, Aegidien
 berg\, NRW\, 53604\, Deutschland;X-APPLE-RADIUS=100;X-TITLE=Bürgerhaus Ae
 gidienberg:geo:50.662330,7.303272
END:VEVENT
BEGIN:VTIMEZONE
TZID:Europe/Berlin
X-LIC-LOCATION:Europe/Berlin
BEGIN:STANDARD
DTSTART:20231029T020000
TZOFFSETFROM:+0200
TZOFFSETTO:+0100
TZNAME:CET
END:STANDARD
END:VTIMEZONE
END:VCALENDAR