BEGIN:VCALENDAR
VERSION:2.0
PRODID:-//wp-events-plugin.com//7.2.3.1//EN
TZID:Europe/Berlin
X-WR-TIMEZONE:Europe/Berlin
BEGIN:VEVENT
UID:54@xn--klvbotz-6waa.de
DTSTART;TZID=Europe/Berlin:20260212T150000
DTEND;TZID=Europe/Berlin:20260212T150000
DTSTAMP:20250228T215443Z
URL:https://xn--klvbotz-6waa.de/events/weibersitzung-2026/
SUMMARY:Weibersitzung 2026
DESCRIPTION:
LOCATION:Bürgerhaus Aegidienberg\, Aegidiusplatz 10\, Aegidienberg\, Deuts
 chland\, 53604\, Deutschland
X-APPLE-STRUCTURED-LOCATION;VALUE=URI;X-ADDRESS=Aegidiusplatz 10\, Aegidien
 berg\, Deutschland\, 53604\, Deutschland;X-APPLE-RADIUS=100;X-TITLE=Bürge
 rhaus Aegidienberg:geo:0,0
END:VEVENT
BEGIN:VTIMEZONE
TZID:Europe/Berlin
X-LIC-LOCATION:Europe/Berlin
BEGIN:STANDARD
DTSTART:20251026T020000
TZOFFSETFROM:+0200
TZOFFSETTO:+0100
TZNAME:CET
END:STANDARD
END:VTIMEZONE
END:VCALENDAR